BEGIN:VCALENDAR
VERSION:2.0
PRODID:-//NDSU Center for Entrepreneurship and Family Business - ECPv6.15.20//NONSGML v1.0//EN
CALSCALE:GREGORIAN
METHOD:PUBLISH
X-WR-CALNAME:NDSU Center for Entrepreneurship and Family Business
X-ORIGINAL-URL:https://ndsu-cefb.com
X-WR-CALDESC:Events for NDSU Center for Entrepreneurship and Family Business
REFRESH-INTERVAL;VALUE=DURATION:PT1H
X-Robots-Tag:noindex
X-PUBLISHED-TTL:PT1H
BEGIN:VTIMEZONE
TZID:UTC
BEGIN:STANDARD
TZOFFSETFROM:+0000
TZOFFSETTO:+0000
TZNAME:UTC
DTSTART:20220101T000000
END:STANDARD
END:VTIMEZONE
BEGIN:VEVENT
DTSTART;TZID=UTC:20231010T160000
DTEND;TZID=UTC:20231010T180000
DTSTAMP:20260421T172015
CREATED:20230926T224314Z
LAST-MODIFIED:20230926T224314Z
UID:7254-1696953600-1696960800@ndsu-cefb.com
SUMMARY:P2P Monthly Workshop
DESCRIPTION:Problems to Possibilities Monthly Workshop
URL:https://ndsu-cefb.com/event/p2p-monthly-workshop/
END:VEVENT
END:VCALENDAR