BEGIN:VCALENDAR
VERSION:2.0
PRODID:-//NDSU Center for Entrepreneurship and Family Business - ECPv6.15.20//NONSGML v1.0//EN
CALSCALE:GREGORIAN
METHOD:PUBLISH
X-WR-CALNAME:NDSU Center for Entrepreneurship and Family Business
X-ORIGINAL-URL:https://ndsu-cefb.com
X-WR-CALDESC:Events for NDSU Center for Entrepreneurship and Family Business
REFRESH-INTERVAL;VALUE=DURATION:PT1H
X-Robots-Tag:noindex
X-PUBLISHED-TTL:PT1H
BEGIN:VTIMEZONE
TZID:UTC
BEGIN:STANDARD
TZOFFSETFROM:+0000
TZOFFSETTO:+0000
TZNAME:UTC
DTSTART:20220101T000000
END:STANDARD
END:VTIMEZONE
BEGIN:VEVENT
DTSTART;TZID=UTC:20231020T000000
DTEND;TZID=UTC:20231020T000000
DTSTAMP:20260421T114516
CREATED:20230217T215931Z
LAST-MODIFIED:20230228T030524Z
UID:7099-1697760000-1697760000@ndsu-cefb.com
SUMMARY:Winter Cohort
DESCRIPTION:The cohort is a free program that provides training to graduate students\, post-docs\, researchers\, and faculty members interested in moving inventive ideas to commercialization. The winter cohort starts on 10/20/2023 and finishes on 11/17/2023. \nI-Corps will provide you with immersive\, entrepreneurial training for inventors\, innovators\, and entrepreneurs\, in the Great Plains States. \n\nConduct Use-Case Research to help\n\nInform customer problems\nLaunch a startup\nLicense your invention\n\n\nImmerse yourself in Deep-Tech Entrepreneurship and Product Innovation\nDevelop lifelong problem-solving skills
URL:https://ndsu-cefb.com/event/winter-cohort/
END:VEVENT
BEGIN:VEVENT
DTSTART;TZID=UTC:20231113T080000
DTEND;TZID=UTC:20231113T160000
DTSTAMP:20260421T114516
CREATED:20231108T082920Z
LAST-MODIFIED:20231108T082920Z
UID:7363-1699862400-1699891200@ndsu-cefb.com
SUMMARY:Kaye's Closet Pop-up Event!
DESCRIPTION:Monday\, November 13th from 8 to 4 pm\, swing by the Louise in Barry Hall to “shop” our carefully curated racks of professional clothes. \nStudents may select from and keep professional business wear that has been donated to Kaye’s Closet. There’s something for everyone! \nStudent ID is required.
URL:https://ndsu-cefb.com/event/kayes-closet-pop-up-event/
LOCATION:NDSU Barry Hall\, 811 2nd Ave N\, Fargo\, ND\, 58102\, United States
END:VEVENT
BEGIN:VEVENT
DTSTART;TZID=UTC:20231113T180000
DTEND;TZID=UTC:20231113T190000
DTSTAMP:20260421T114516
CREATED:20231016T192847Z
LAST-MODIFIED:20231016T192847Z
UID:7294-1699898400-1699902000@ndsu-cefb.com
SUMMARY:NDSU Women in Business Club Meeting
DESCRIPTION:NDSU Women in Business Club Meeting – Beacon Hill staffing talking on mentorship and post-grad transition. Room 118 Barry Hall.
URL:https://ndsu-cefb.com/event/ndsu-women-in-business-club-meeting-2/
LOCATION:NDSU Barry Hall\, 811 2nd Ave N\, Fargo\, ND\, 58102\, United States
END:VEVENT
END:VCALENDAR