BEGIN:VCALENDAR
VERSION:2.0
PRODID:-//NDSU Center for Entrepreneurship and Family Business - ECPv6.15.20//NONSGML v1.0//EN
CALSCALE:GREGORIAN
METHOD:PUBLISH
X-WR-CALNAME:NDSU Center for Entrepreneurship and Family Business
X-ORIGINAL-URL:https://ndsu-cefb.com
X-WR-CALDESC:Events for NDSU Center for Entrepreneurship and Family Business
REFRESH-INTERVAL;VALUE=DURATION:PT1H
X-Robots-Tag:noindex
X-PUBLISHED-TTL:PT1H
BEGIN:VTIMEZONE
TZID:UTC
BEGIN:STANDARD
TZOFFSETFROM:+0000
TZOFFSETTO:+0000
TZNAME:UTC
DTSTART:20220101T000000
END:STANDARD
END:VTIMEZONE
BEGIN:VEVENT
DTSTART;TZID=UTC:20231228T161500
DTEND;TZID=UTC:20231228T174500
DTSTAMP:20260421T234308
CREATED:20231020T074916Z
LAST-MODIFIED:20231020T074916Z
UID:7325-1703780100-1703785500@ndsu-cefb.com
SUMMARY:Pathway Ventures Meeting
DESCRIPTION:Pathway Ventures Meeting – Thursdays | 4:15 p.m. – 5:45 p.m. | Stenehjem Conference room\, McGovern Alumni Center
URL:https://ndsu-cefb.com/event/pathway-ventures-meeting-7/
END:VEVENT
END:VCALENDAR