BEGIN:VCALENDAR
VERSION:2.0
PRODID:-//NDSU Center for Entrepreneurship and Family Business - ECPv6.15.20//NONSGML v1.0//EN
CALSCALE:GREGORIAN
METHOD:PUBLISH
X-WR-CALNAME:NDSU Center for Entrepreneurship and Family Business
X-ORIGINAL-URL:https://ndsu-cefb.com
X-WR-CALDESC:Events for NDSU Center for Entrepreneurship and Family Business
REFRESH-INTERVAL;VALUE=DURATION:PT1H
X-Robots-Tag:noindex
X-PUBLISHED-TTL:PT1H
BEGIN:VTIMEZONE
TZID:UTC
BEGIN:STANDARD
TZOFFSETFROM:+0000
TZOFFSETTO:+0000
TZNAME:UTC
DTSTART:20230101T000000
END:STANDARD
END:VTIMEZONE
BEGIN:VEVENT
DTSTART;TZID=UTC:20240131T090000
DTEND;TZID=UTC:20240131T120000
DTSTAMP:20260421T050425
CREATED:20240125T003311Z
LAST-MODIFIED:20240125T003311Z
UID:7678-1706691600-1706702400@ndsu-cefb.com
SUMMARY:Marketing and Sales Hiring Fair
DESCRIPTION:Wed. Jan 31\, 2024 9:00 AM-12:00 PM \nBarry Hall Louise Auditorium \nReminder to stop by the Marketing & Sales Hiring Fair! Students who attend this Fair are looking for opportunities for either full-time positions or internships in the fields of marketing and/or sales. All majors are welcome to attend.  \n👕: Business casual recommended\n📄: Bring copies of your resume\n🤝: More info and open positions on Handshake.\n📷: Free Professional Headshots 9:00 AM-11:30 AM
URL:https://ndsu-cefb.com/event/marketing-and-sales-hiring-fair/
END:VEVENT
END:VCALENDAR