BEGIN:VCALENDAR
VERSION:2.0
PRODID:-//NDSU Center for Entrepreneurship and Family Business - ECPv6.15.20//NONSGML v1.0//EN
CALSCALE:GREGORIAN
METHOD:PUBLISH
X-ORIGINAL-URL:https://ndsu-cefb.com
X-WR-CALDESC:Events for NDSU Center for Entrepreneurship and Family Business
REFRESH-INTERVAL;VALUE=DURATION:PT1H
X-Robots-Tag:noindex
X-PUBLISHED-TTL:PT1H
BEGIN:VTIMEZONE
TZID:UTC
BEGIN:STANDARD
TZOFFSETFROM:+0000
TZOFFSETTO:+0000
TZNAME:UTC
DTSTART:20230101T000000
END:STANDARD
END:VTIMEZONE
BEGIN:VEVENT
DTSTART;VALUE=DATE:20240201
DTEND;VALUE=DATE:20240304
DTSTAMP:20260419T131857
CREATED:20230914T022147Z
LAST-MODIFIED:20230914T022147Z
UID:7251-1706745600-1709510399@ndsu-cefb.com
SUMMARY:e-Fest Online Submissions
DESCRIPTION:
URL:https://ndsu-cefb.com/event/e-fest-online-submissions/
END:VEVENT
BEGIN:VEVENT
DTSTART;TZID=UTC:20240201T190000
DTEND;TZID=UTC:20240201T220000
DTSTAMP:20260419T131857
CREATED:20240103T020611Z
LAST-MODIFIED:20240103T020611Z
UID:7510-1706814000-1706824800@ndsu-cefb.com
SUMMARY:1 Million Thanks
DESCRIPTION:Join us for a fun evening celebrating entrepreneurship at Emerging Prairie’s annual 1 Million Thanks Awards Event. This is a great event that highlights the achievements made in entrepreneurship\, technology\, and innovation in our region…plus delicious appetizers\, live music\, and the opportunity to build new connections! \nWhen: Thursday\, February 1st\, 2024\nTime: 7-10 PM\nWhere: Fargo Air Museum \nPurchase Tickets: 1 Million Thanks 2024 Tickets\, Thu\, Feb 1\, 2024 at 7:00 PM | Eventbrite
URL:https://ndsu-cefb.com/event/1-million-thanks/
END:VEVENT
BEGIN:VEVENT
DTSTART;VALUE=DATE:20240208
DTEND;VALUE=DATE:20240209
DTSTAMP:20260419T131857
CREATED:20240103T021013Z
LAST-MODIFIED:20240103T021013Z
UID:7512-1707350400-1707436799@ndsu-cefb.com
SUMMARY:Giving Hearts Day
DESCRIPTION:Giving Hearts Day is a 24-hour event for charities in North Dakota and northwest Minnesota. Each year\, Giving Hearts Day provides a platform for charities to fund their missions through an ever-increasing community of donors! Learn more & donate: Giving Hearts Day
URL:https://ndsu-cefb.com/event/giving-hearts-day/
END:VEVENT
BEGIN:VEVENT
DTSTART;VALUE=DATE:20240213
DTEND;VALUE=DATE:20240214
DTSTAMP:20260419T131857
CREATED:20230926T224817Z
LAST-MODIFIED:20230926T224817Z
UID:7263-1707782400-1707868799@ndsu-cefb.com
SUMMARY:P2P Monthly Workshop
DESCRIPTION:TBD
URL:https://ndsu-cefb.com/event/p2p-monthly-workshop-5/
END:VEVENT
BEGIN:VEVENT
DTSTART;TZID=UTC:20240214T170000
DTEND;TZID=UTC:20240214T190000
DTSTAMP:20260419T131857
CREATED:20230914T021408Z
LAST-MODIFIED:20230914T021408Z
UID:7241-1707930000-1707937200@ndsu-cefb.com
SUMMARY:Possibility Fellowship Meeting
DESCRIPTION:Monthly meeting for the Possibility Fellowship.
URL:https://ndsu-cefb.com/event/possibility-fellowship-meeting-6/
END:VEVENT
BEGIN:VEVENT
DTSTART;TZID=UTC:20240215T140000
DTEND;TZID=UTC:20240215T160000
DTSTAMP:20260419T131857
CREATED:20231014T010341Z
LAST-MODIFIED:20240130T071800Z
UID:7270-1708005600-1708012800@ndsu-cefb.com
SUMMARY:3MT Competition Finals
DESCRIPTION:Three-Minute Thesis (3MT) Competition \nhttps://www.linkedin.com/events/ndsuthreeminutethesislivechampi7153416806035021824/
URL:https://ndsu-cefb.com/event/3mt-competition-finals/
LOCATION:Anishinaabe Theater
END:VEVENT
END:VCALENDAR